BEGIN:VCALENDAR
VERSION:2.0
PRODID:-//David Samuel - ECPv6.15.20//NONSGML v1.0//EN
CALSCALE:GREGORIAN
METHOD:PUBLISH
X-ORIGINAL-URL:https://violistdavidsamuel.com
X-WR-CALDESC:Events for David Samuel
REFRESH-INTERVAL;VALUE=DURATION:PT1H
X-Robots-Tag:noindex
X-PUBLISHED-TTL:PT1H
BEGIN:VTIMEZONE
TZID:America/Los_Angeles
BEGIN:DAYLIGHT
TZOFFSETFROM:-0800
TZOFFSETTO:-0700
TZNAME:PDT
DTSTART:20220313T100000
END:DAYLIGHT
BEGIN:STANDARD
TZOFFSETFROM:-0700
TZOFFSETTO:-0800
TZNAME:PST
DTSTART:20221106T090000
END:STANDARD
BEGIN:DAYLIGHT
TZOFFSETFROM:-0800
TZOFFSETTO:-0700
TZNAME:PDT
DTSTART:20230312T100000
END:DAYLIGHT
BEGIN:STANDARD
TZOFFSETFROM:-0700
TZOFFSETTO:-0800
TZNAME:PST
DTSTART:20231105T090000
END:STANDARD
BEGIN:DAYLIGHT
TZOFFSETFROM:-0800
TZOFFSETTO:-0700
TZNAME:PDT
DTSTART:20240310T100000
END:DAYLIGHT
BEGIN:STANDARD
TZOFFSETFROM:-0700
TZOFFSETTO:-0800
TZNAME:PST
DTSTART:20241103T090000
END:STANDARD
END:VTIMEZONE
BEGIN:VTIMEZONE
TZID:America/New_York
BEGIN:DAYLIGHT
TZOFFSETFROM:-0500
TZOFFSETTO:-0400
TZNAME:EDT
DTSTART:20220313T070000
END:DAYLIGHT
BEGIN:STANDARD
TZOFFSETFROM:-0400
TZOFFSETTO:-0500
TZNAME:EST
DTSTART:20221106T060000
END:STANDARD
BEGIN:DAYLIGHT
TZOFFSETFROM:-0500
TZOFFSETTO:-0400
TZNAME:EDT
DTSTART:20230312T070000
END:DAYLIGHT
BEGIN:STANDARD
TZOFFSETFROM:-0400
TZOFFSETTO:-0500
TZNAME:EST
DTSTART:20231105T060000
END:STANDARD
BEGIN:DAYLIGHT
TZOFFSETFROM:-0500
TZOFFSETTO:-0400
TZNAME:EDT
DTSTART:20240310T070000
END:DAYLIGHT
BEGIN:STANDARD
TZOFFSETFROM:-0400
TZOFFSETTO:-0500
TZNAME:EST
DTSTART:20241103T060000
END:STANDARD
END:VTIMEZONE
BEGIN:VEVENT
DTSTART;TZID=America/Los_Angeles:20230526T190000
DTEND;TZID=America/Los_Angeles:20230526T190000
DTSTAMP:20260423T115032
CREATED:20230516T064847Z
LAST-MODIFIED:20230516T064847Z
UID:750-1685127600-1685127600@violistdavidsamuel.com
SUMMARY:Shkolnikova Academy Benefit Concert
DESCRIPTION:Program\nGlazunov “Novelettes” Op. 15\, Nos. 1\, 3\, 5\nShostakovich String Quartet No. 7 in f-sharp minor\, Op. 108\nBrahms Piano Quintet in f minor\, Op. 34 \nDavid Chernyavsky\, violin\nYuna Lee\, violin\nDavid Samuel\, viola\nVicky Wang\, cello\nYana Reznik\, piano \n  \nTickets
URL:https://violistdavidsamuel.com/event/shkolnikova-academy-benefit-concert/
LOCATION:Tateuchi Hall\, 230 San Antonio Cir.\, Mountain View\, CA
ATTACH;FMTTYPE=image/jpeg:https://violistdavidsamuel.com/wp-content/uploads/2023/05/346065009_1398962867341220_3230881404478392126_n.jpg
END:VEVENT
BEGIN:VEVENT
DTSTART;TZID=America/Los_Angeles:20230511T133000
DTEND;TZID=America/Los_Angeles:20230511T133000
DTSTAMP:20260423T115032
CREATED:20230320T063009Z
LAST-MODIFIED:20230507T193659Z
UID:645-1683811800-1683811800@violistdavidsamuel.com
SUMMARY:Music at Oakmont
DESCRIPTION:Program\nW.A. Mozart K.452 (1794 arrangement for piano quartet)\nMélanie Hélène Bonis Piano Quartet No. 1\, Op. 69\nJ. Brahms Piano Quartet No. 3 in c minor\, Op. 60 \nScott St. John\, violin\nDavid Samuel\, viola\nChristopher Costanza\, cello\nJohn Novacek\, piano \n  \nTickets
URL:https://violistdavidsamuel.com/event/music-at-oakmont/
LOCATION:Berger Center\, 6633 Oakmont Dr.\, Santa Rosa\, CA\, 95409
ATTACH;FMTTYPE=image/jpeg:https://violistdavidsamuel.com/wp-content/uploads/2023/03/IMG_6393.jpeg
END:VEVENT
BEGIN:VEVENT
DTSTART;TZID=America/Los_Angeles:20230507T190000
DTEND;TZID=America/Los_Angeles:20230507T190000
DTSTAMP:20260423T115032
CREATED:20230324T004929Z
LAST-MODIFIED:20230507T193614Z
UID:653-1683486000-1683486000@violistdavidsamuel.com
SUMMARY:Music at Kohl Mansion
DESCRIPTION:Program\nMozart Viola Quintet in B-flat Major\, KV 174\nKodály Quartet No. 2\, Op. 10\nBrahms Sextet in B-flat Major\, Op. 18 \nAlexander String Quartet with Paul Yarbrough\, guest viola and Eric Gaenslen\, guest cello \n  \nTickets
URL:https://violistdavidsamuel.com/event/music-at-kohl-mansion/
LOCATION:Kohl Mansion\, 2750 Adeline Drive\, Burlingame\, CA
ATTACH;FMTTYPE=image/jpeg:https://violistdavidsamuel.com/wp-content/uploads/2023/03/Fe9hfEJXEAchuqt.jpg
END:VEVENT
BEGIN:VEVENT
DTSTART;TZID=America/Los_Angeles:20230503T190000
DTEND;TZID=America/Los_Angeles:20230503T190000
DTSTAMP:20260423T115032
CREATED:20230407T061424Z
LAST-MODIFIED:20230407T061652Z
UID:711-1683140400-1683140400@violistdavidsamuel.com
SUMMARY:Hidden Valley Virtuosi
DESCRIPTION:Program\nL. Beethoven: Piano Trio in D Major\, Op. 70\, No. 1\, “Ghost”\nJ. Brahms: Piano Quartet in g minor\, Op. 25 \nTien-Hsin Cindy Wu\, violin\nDavid Samuel\, viola\nTanya Tomkins\, cello\nInes Irawati\, piano \n  \nTickets
URL:https://violistdavidsamuel.com/event/hidden-valley-virtuosi/
LOCATION:Hidden Valley Music Seminars\, 104 W Carmel Valley Rd\, Carmel Valley\, CA
ATTACH;FMTTYPE=image/jpeg:https://violistdavidsamuel.com/wp-content/uploads/2023/04/450x325xUnlocktheHerowebsiteheading.jpg.pagespeed.ic_.ApsliE0qiS.jpg
END:VEVENT
BEGIN:VEVENT
DTSTART;TZID=America/New_York:20230423T170000
DTEND;TZID=America/New_York:20230423T170000
DTSTAMP:20260423T115032
CREATED:20230319T062506Z
LAST-MODIFIED:20230320T043727Z
UID:555-1682269200-1682269200@violistdavidsamuel.com
SUMMARY:Shostakovich String Quartet Cycle #5
DESCRIPTION:Program\nShostakovich Quartet No. 13 in B-flat Minor\, Op. 138\nShostakovich Quartet No. 14 in F-sharp Major\, Op. 142\nShostakovich Quartet No. 15 in E-flat Minor\, Op. 144 \nAlexander String Quartet \n  \nTickets
URL:https://violistdavidsamuel.com/event/shostakovich-string-quartet-cycle-5/
LOCATION:Lippes Concert Hall in Slee Hall\, North Campus\, University of Buffalo\, Buffalo\, NY
ATTACH;FMTTYPE=image/webp:https://violistdavidsamuel.com/wp-content/uploads/2023/03/mztul7-b781241576z.120140122155346000gtl1i3brb.3.webp
END:VEVENT
BEGIN:VEVENT
DTSTART;TZID=America/New_York:20230422T193000
DTEND;TZID=America/New_York:20230422T193000
DTSTAMP:20260423T115032
CREATED:20230319T062334Z
LAST-MODIFIED:20230319T202618Z
UID:553-1682191800-1682191800@violistdavidsamuel.com
SUMMARY:Shostakovich String Quartet Cycle #4
DESCRIPTION:Program\nShostakovich Quartet No. 10 in A-flat Major\, Op. 118\nShostakovich Quartet No. 11 in F Minor\, Op. 122\nShostakovich Quartet No. 12 in D-flat Major\, Op. 133 \nAlexander String Quartet \n  \nTickets
URL:https://violistdavidsamuel.com/event/shostakovich-string-quartet-cycle-4/
LOCATION:Lippes Concert Hall in Slee Hall\, North Campus\, University of Buffalo\, Buffalo\, NY
END:VEVENT
BEGIN:VEVENT
DTSTART;TZID=America/New_York:20230419T190000
DTEND;TZID=America/New_York:20230419T190000
DTSTAMP:20260423T115032
CREATED:20230320T060736Z
LAST-MODIFIED:20230320T060736Z
UID:639-1681930800-1681930800@violistdavidsamuel.com
SUMMARY:Alexander Chamber Music Society
DESCRIPTION:Program\nShostakovich Quartet No. 11 in F Minor\, Op. 122\nShostakovich Quartet No. 13 in B-flat Minor\, Op. 138\nShostakovich Quartet No. 12 in D-flat Major\, Op. 133 \nAlexander String Quartet
URL:https://violistdavidsamuel.com/event/alexander-chamber-music-society/
LOCATION:Ann’s Choice Chapel\, 30000 Ann's Choice Way\, Warminster\, PA
END:VEVENT
BEGIN:VEVENT
DTSTART;TZID=America/New_York:20230416T140000
DTEND;TZID=America/New_York:20230416T140000
DTSTAMP:20260423T115032
CREATED:20230320T055653Z
LAST-MODIFIED:20230320T055653Z
UID:637-1681653600-1681653600@violistdavidsamuel.com
SUMMARY:Allegheny RiverStone Arts
DESCRIPTION:Program\nMozart Quartet in B-flat Major\, KV 589\, “Prussian”\nShostakovich Quartet No. 11 in F Minor\, Op. 122\nShostakovich Quartet No. 9 in E-flat Major\, Op. 117 \nAlexander String Quartet \n  \nTickets
URL:https://violistdavidsamuel.com/event/allegheny-riverstone-arts/
LOCATION:Lincoln Hall\, Foxburg\, PA
ATTACH;FMTTYPE=image/jpeg:https://violistdavidsamuel.com/wp-content/uploads/2023/03/maxresdefault.jpg
END:VEVENT
BEGIN:VEVENT
DTSTART;TZID=America/New_York:20230414T193000
DTEND;TZID=America/New_York:20230414T193000
DTSTAMP:20260423T115032
CREATED:20230319T062212Z
LAST-MODIFIED:20230319T202838Z
UID:548-1681500600-1681500600@violistdavidsamuel.com
SUMMARY:Shostakovich String Quartet Cycle #3
DESCRIPTION:Program\nShostakovich Quartet No. 7 in F-sharp Minor\, Op. 108\nShostakovich Quartet No. 8 in C Minor\, Op. 110\nShostakovich Quartet No. 9 in E-flat Major\, Op. 117 \nAlexander String Quartet \n  \nTickets
URL:https://violistdavidsamuel.com/event/shostakovich-string-quartet-cycle-3/
LOCATION:Lippes Concert Hall in Slee Hall\, North Campus\, University of Buffalo\, Buffalo\, NY
END:VEVENT
BEGIN:VEVENT
DTSTART;TZID=America/New_York:20230413T193000
DTEND;TZID=America/New_York:20230413T193000
DTSTAMP:20260423T115032
CREATED:20230319T061622Z
LAST-MODIFIED:20230320T035504Z
UID:545-1681414200-1681414200@violistdavidsamuel.com
SUMMARY:Shostakovich String Quartet Cycle #2
DESCRIPTION:Program\nShostakovich Quartet No. 4 in D Major\, Op. 83\nShostakovich Quartet No. 5 in B-flat Major\, Op. 92\nShostakovich Quartet No. 6 in G Major\, Op. 101 \nAlexander String Quartet \n  \nTickets
URL:https://violistdavidsamuel.com/event/shostakovich-string-quartet-cycle-2/
LOCATION:Lippes Concert Hall in Slee Hall\, North Campus\, University of Buffalo\, Buffalo\, NY
ATTACH;FMTTYPE=image/jpeg:https://violistdavidsamuel.com/wp-content/uploads/2023/03/Dmitri-Shostakovich.jpg
END:VEVENT
BEGIN:VEVENT
DTSTART;TZID=America/New_York:20230412T193000
DTEND;TZID=America/New_York:20230412T193000
DTSTAMP:20260423T115032
CREATED:20230319T061230Z
LAST-MODIFIED:20230320T040417Z
UID:541-1681327800-1681327800@violistdavidsamuel.com
SUMMARY:Shostakovich String Quartet Cycle #1
DESCRIPTION:Program\nShostakovich Quartet No. 1 in C Major\, Op. 49\nShostakovich Quartet No. 2 in A Major\, Op. 68\nShostakovich Quartet No. 3 in F Major\, Op. 73 \nAlexander String Quartet \n  \nTickets
URL:https://violistdavidsamuel.com/event/shostakovich-string-quartet-cycle-1/
LOCATION:Lippes Concert Hall in Slee Hall\, North Campus\, University of Buffalo\, Buffalo\, NY
ATTACH;FMTTYPE=image/jpeg:https://violistdavidsamuel.com/wp-content/uploads/2023/03/Shostakovich-Header.jpg
END:VEVENT
BEGIN:VEVENT
DTSTART;TZID=America/Los_Angeles:20230402T140000
DTEND;TZID=America/Los_Angeles:20230402T140000
DTSTAMP:20260423T115032
CREATED:20230319T060132Z
LAST-MODIFIED:20230320T053637Z
UID:538-1680444000-1680444000@violistdavidsamuel.com
SUMMARY:The Chamber Music of Antonín Dvořák
DESCRIPTION:Program\nDvořák Quartet in G Major\, Op. 106\nDvořák Quartet in A-flat Major\, Op. 105 \nAlexander String Quartet with Robert Greenberg \n  \nTickets
URL:https://violistdavidsamuel.com/event/the-chamber-music-of-antonin-dvorak/
LOCATION:Mondavi Center for the Performing Arts\, 523 Mrak Hall Dr.\, Davis\, CA\, 95616
ATTACH;FMTTYPE=image/jpeg:https://violistdavidsamuel.com/wp-content/uploads/2023/03/dvok-1537886497-view-0.jpg
END:VEVENT
BEGIN:VEVENT
DTSTART;TZID=America/Los_Angeles:20230331T190000
DTEND;TZID=America/Los_Angeles:20230331T190000
DTSTAMP:20260423T115032
CREATED:20230319T025223Z
LAST-MODIFIED:20230320T054736Z
UID:524-1680289200-1680289200@violistdavidsamuel.com
SUMMARY:Shostakovich Immersion #2
DESCRIPTION:Program\nShostakovich Quartet No. 11 in F Minor\, Op. 122\nShostakovich Quartet No. 4 in D Major\, Op. 83\nShostakovich Quartet No. 15 in E-flat Minor\, Op. 144 \nAlexander String Quartet \n  \nTickets
URL:https://violistdavidsamuel.com/event/shostakovich-immersion-2/
LOCATION:SandBox Sand City\, 440 Ortiz Avenue\, Sand City\, CA
ATTACH;FMTTYPE=image/webp:https://violistdavidsamuel.com/wp-content/uploads/2023/03/Frame-32.webp
END:VEVENT
BEGIN:VEVENT
DTSTART;TZID=America/Los_Angeles:20230331T120000
DTEND;TZID=America/Los_Angeles:20230331T120000
DTSTAMP:20260423T115032
CREATED:20230319T025807Z
LAST-MODIFIED:20230320T054349Z
UID:526-1680264000-1680264000@violistdavidsamuel.com
SUMMARY:Bach's Lunch at SandBox
DESCRIPTION:Musikiwest presents a noon time free Bach’s Lunch concert. We welcome the Alexander String Quartet for this very special informance. \nJoin the Alexander String Quartet as they take a journey through the life of Dmitri Shostakovich by way of his string quartets. They will present a selection of movements from across several of his 15 string quartets that\, along with some stories and anecdotes\, will help illustrate the life of this most incredible and fascinating artist. \n  \nTickets
URL:https://violistdavidsamuel.com/event/bachs-lunch-at-sandbox/
LOCATION:SandBox Sand City\, 440 Ortiz Avenue\, Sand City\, CA
END:VEVENT
BEGIN:VEVENT
DTSTART;TZID=America/Los_Angeles:20230330T190000
DTEND;TZID=America/Los_Angeles:20230330T190000
DTSTAMP:20260423T115032
CREATED:20230319T022959Z
LAST-MODIFIED:20230320T054221Z
UID:518-1680202800-1680202800@violistdavidsamuel.com
SUMMARY:Shostakovich Immersion #1
DESCRIPTION:Program\nShostakovich Quartet No. 1 in C Major\, Op. 49\nShostakovich Quartet No. 9 in E-flat Major\, Op. 117\nShostakovich Quartet No. 12 in D-flat Major\, Op. 133 \nAlexander String Quartet \n  \nTickets
URL:https://violistdavidsamuel.com/event/shostakovich-immersion-1/
LOCATION:SandBox Sand City\, 440 Ortiz Avenue\, Sand City\, CA
ATTACH;FMTTYPE=image/webp:https://violistdavidsamuel.com/wp-content/uploads/2023/03/Frame-32.webp
END:VEVENT
END:VCALENDAR